BEGIN:VCALENDAR
VERSION:2.0
PRODID:-//NZ Society of Actuaries - ECPv6.15.17.1//NONSGML v1.0//EN
CALSCALE:GREGORIAN
METHOD:PUBLISH
X-WR-CALNAME:NZ Society of Actuaries
X-ORIGINAL-URL:https://actuaries.org.nz
X-WR-CALDESC:Events for NZ Society of Actuaries
REFRESH-INTERVAL;VALUE=DURATION:PT1H
X-Robots-Tag:noindex
X-PUBLISHED-TTL:PT1H
BEGIN:VTIMEZONE
TZID:Pacific/Auckland
BEGIN:STANDARD
TZOFFSETFROM:+1300
TZOFFSETTO:+1200
TZNAME:NZST
DTSTART:20220402T140000
END:STANDARD
BEGIN:DAYLIGHT
TZOFFSETFROM:+1200
TZOFFSETTO:+1300
TZNAME:NZDT
DTSTART:20220924T140000
END:DAYLIGHT
BEGIN:STANDARD
TZOFFSETFROM:+1300
TZOFFSETTO:+1200
TZNAME:NZST
DTSTART:20230401T140000
END:STANDARD
BEGIN:DAYLIGHT
TZOFFSETFROM:+1200
TZOFFSETTO:+1300
TZNAME:NZDT
DTSTART:20230923T140000
END:DAYLIGHT
BEGIN:STANDARD
TZOFFSETFROM:+1300
TZOFFSETTO:+1200
TZNAME:NZST
DTSTART:20240406T140000
END:STANDARD
BEGIN:DAYLIGHT
TZOFFSETFROM:+1200
TZOFFSETTO:+1300
TZNAME:NZDT
DTSTART:20240928T140000
END:DAYLIGHT
END:VTIMEZONE
BEGIN:VEVENT
DTSTART;TZID=Pacific/Auckland:20230824T160000
DTEND;TZID=Pacific/Auckland:20230824T200000
DTSTAMP:20260423T173851
CREATED:20230803T022424Z
LAST-MODIFIED:20230807T045429Z
UID:4219-1692892800-1692907200@actuaries.org.nz
SUMMARY:Winter Dinner - Wellington
DESCRIPTION:The Winter Dinner is back in 2023! This year\, the dinner will coincide Actuaries Institute President Naomi Edwards’ visit. \nJoin us for this event\, which will include a presentation from Naomi\, followed by dinner. It will be a fantastic opportunity to catch up with industry peers\, share insights and strengthen our professional bonds. \nTickets are $70 per person for all members and $85 per person for partners\, which will cover dinner and your first drink. Additional drinks can be paid for separately at the restaurant. \nIf you wish to attend both the presentation and Dinner\, please select both ticket options.  If you wish to only attend one of the events\, please select the appropriate ticket option. \nPresentation: EY Offices\, Thursday 24 August\, 4 pm – 5:30 pm \nDinner: Shed 5\, Thursday 24 August\, from 6pm \nRegister here  \n        \n    \n\n\n\n\n\n\n\n\n\n\n\n    \n        \n                    \n    \n\n\n\n    \n        \n            Events\n        \n        \n            \n                                        \n                            \n                                \n                                                                    Thu\n                                  30\n                              \n                              \n                                \n                                    April 30 at 4:30 pm – 6:30 pm                                     Free\n                                \n                                \n                                    NZSA 2026-27 Strategy & Priorities: Member Sessional – Wellington\n                                \n                                                                    \n                                        \n\n\n\n\n\n\n\n                                     \n                                                                \n                                   Join us 30 April in Wellington for our first member sessional of the year\, where NZSA’s Council and CE will… \n                                   Read more
URL:https://actuaries.org.nz/event/winter-dinner-wellington/
LOCATION:Shed 5\, Queens Wharf\,\, Wellington\, New Zealand
CATEGORIES:Social Event
END:VEVENT
END:VCALENDAR